BEGIN:VCALENDAR
VERSION:2.0
PRODID:-//ChamberMaster//Event Calendar 2.0//EN
METHOD:PUBLISH
X-PUBLISHED-TTL:P3D
REFRESH-INTERVAL:P3D
CALSCALE:GREGORIAN
BEGIN:VEVENT
DTSTART:20120227T140000Z
DTEND:20120227T150000Z
X-MICROSOFT-CDO-ALLDAYEVENT:FALSE
SUMMARY:Gov't Affairs hosts Rep. Linda Runbeck
DESCRIPTION:Gov't Affairs hosts Rep. Linda Runbeck\, (Chair of Property & Local Tax Division in the MN House of Representatives) who will present and discuss House File 1914\, which seeks to phase out commercial-industrial property taxes. All MetroNorth members welcome to attend.\n\n	\n\n	No cost\, unless you choose to order breakfast.\n\n	Perkins\, 12545 Ulysses St. NE\, Blaine.
X-ALT-DESC;FMTTYPE=text/html:<p style="MARGIN-TOP: 0px\; MARGIN-BOTTOM: 0px">\n	<span style="color:#000080\;"><span style="font-size: 10px\;"><span style="font-family: tahoma\;"><span><strong>Gov&#39\;t Affairs hosts Rep. Linda Runbeck</strong>\, </span><span>(Chair of Property &amp\; Local Tax Division&nbsp\;in the MN House of Representatives) who will present and discuss House File 1914\, which&nbsp\;seeks to phase out </span><span>commercial-industrial property taxes. All MetroNorth members welcome to attend.<br />\n	<br />\n	No cost\, unless you choose to order breakfast.<br />\n	Perkins\, </span><span>12545 Ulysses St. NE\, Blaine.</span></span></span></span></p>\n
LOCATION:Perkins\, 12545 Ulysses St. NE\, Blaine
UID:e.380.143477
SEQUENCE:3
DTSTAMP:20260425T231730Z
URL:http://members.metronorthchamber.org/events/details/gov-t-affairs-hosts-rep-linda-runbeck-02-27-2012-143477
END:VEVENT

END:VCALENDAR
