BEGIN:VCALENDAR
VERSION:2.0
PRODID:-//ChamberMaster//Event Calendar 2.0//EN
METHOD:PUBLISH
X-PUBLISHED-TTL:P3D
REFRESH-INTERVAL:P3D
CALSCALE:GREGORIAN
BEGIN:VEVENT
DTSTART:20120927T130000Z
DTEND:20120927T140000Z
X-MICROSOFT-CDO-ALLDAYEVENT:FALSE
SUMMARY:Gov't Affairs\, featuring Larry Jacobs
DESCRIPTION:Political analyst Larry Jacobs will share his insights on local\, state\, and federal races.
X-ALT-DESC;FMTTYPE=text/html:<p>\n	<span style="font-size: 11px"><span style="font-family: tahoma">Political analyst Larry Jacobs will share his insights on local\, state\, and federal races.</span></span></p>\n
LOCATION:MN School of Business - Blaine 35W and Lexington Ave Room 307
UID:e.380.145201
SEQUENCE:3
DTSTAMP:20260425T111200Z
URL:http://members.metronorthchamber.org/events/details/gov-t-affairs-featuring-larry-jacobs-09-27-2012-145201
END:VEVENT

END:VCALENDAR
