BEGIN:VCALENDAR
VERSION:2.0
PRODID:-//ChamberMaster//Event Calendar 2.0//EN
METHOD:PUBLISH
X-PUBLISHED-TTL:P3D
REFRESH-INTERVAL:P3D
CALSCALE:GREGORIAN
BEGIN:VEVENT
DTSTART:20120830T130000Z
DTEND:20120830T140000Z
X-MICROSOFT-CDO-ALLDAYEVENT:FALSE
SUMMARY:Gov't Affairs
DESCRIPTION:
X-ALT-DESC;FMTTYPE=text/html:
LOCATION:tbd
UID:e.380.148177
SEQUENCE:3
DTSTAMP:20260425T125213Z
URL:http://members.metronorthchamber.org/events/details/gov-t-affairs-08-30-2012-148177
END:VEVENT

END:VCALENDAR
