BEGIN:VCALENDAR
VERSION:2.0
PRODID:-//ChamberMaster//Event Calendar 2.0//EN
METHOD:PUBLISH
X-PUBLISHED-TTL:P3D
REFRESH-INTERVAL:P3D
CALSCALE:GREGORIAN
BEGIN:VEVENT
DTSTART:20130829T130000Z
DTEND:20130829T140000Z
X-MICROSOFT-CDO-ALLDAYEVENT:FALSE
SUMMARY:Gov't Affairs
DESCRIPTION:Senator Minority Leader David Hann will discuss the 2013 Session and B2B taxes. He'll also provide an update on the pending Special Session as well as what might be in store during the 2014 legislative season.
X-ALT-DESC;FMTTYPE=text/html:<span style="font-family:tahoma\;"><span style="font-size: 12px\;">Senator Minority Leader David Hann will discuss the 2013 Session and B2B taxes. He&rsquo\;ll also provide an update on the pending Special Session as well as what might be in store during the 2014 legislative season.</span></span><br />\n
LOCATION:Chamber office 21st Century Bank Building 9380 Central Ave NE\, Suite 320 Blaine
UID:e.380.148185
SEQUENCE:3
DTSTAMP:20260424T175441Z
URL:http://members.metronorthchamber.org/events/details/gov-t-affairs-08-29-2013-148185
END:VEVENT

END:VCALENDAR
