BEGIN:VCALENDAR
VERSION:2.0
PRODID:-//ChamberMaster//Event Calendar 2.0//EN
METHOD:PUBLISH
X-PUBLISHED-TTL:P3D
REFRESH-INTERVAL:P3D
CALSCALE:GREGORIAN
BEGIN:VEVENT
DTSTART:20120426T130000Z
DTEND:20120426T140000Z
X-MICROSOFT-CDO-ALLDAYEVENT:FALSE
SUMMARY:Gov't. Affairs
DESCRIPTION:Gov't. Affairs Meeting\n\n\n\nThis meeting will highlight misc transportation updates in our community presented by Kent Barnard from MnDot and Anoka County Commissioner Matt Look. Kent Barnard will discuss several upcoming construction projects that may affect your business\, your customers\, and/or your employees. Anoka County Commissioner Matt Look will present the latest information on the Northstar rail line and the construction of the line's newest station in Ramsey.
X-ALT-DESC;FMTTYPE=text/html:<span style="font-size: 11px\;"><span style="font-family: tahoma\;">Gov&#39\;t. Affairs Meeting</span></span><br />\n<br />\n<span style="font-size:11px\;"><span style="font-family: tahoma\;"><span>This meeting will highlight misc transportation updates in our community presented by Kent Barnard from MnDot and <span>Anoka County Commissioner Matt Look</span>. Kent Barnard will discuss several upcoming construction projects that may affect your business\, your customers\, and/or your employees. Anoka County Commissioner Matt Look will present the latest information on the Northstar rail line and the construction of the line&#39\;s newest station in Ramsey.</span></span></span><br />\n
LOCATION:Connexus Energy\, 14601 Ramsey Blvd\, Ramsey
UID:e.380.143508
SEQUENCE:3
DTSTAMP:20260425T192258Z
URL:http://members.metronorthchamber.org/events/details/gov-t-affairs-04-26-2012-143508
END:VEVENT

END:VCALENDAR
