BEGIN:VCALENDAR
VERSION:2.0
PRODID:-//ChamberMaster//Event Calendar 2.0//EN
METHOD:PUBLISH
X-PUBLISHED-TTL:P3D
REFRESH-INTERVAL:P3D
CALSCALE:GREGORIAN
BEGIN:VEVENT
DTSTART:20190727T140000Z
DTEND:20190727T150000Z
X-MICROSOFT-CDO-ALLDAYEVENT:FALSE
SUMMARY:Good Morning Yoga
DESCRIPTION:Exercise\, Stress Relief\, Mindfulness\, Flexibility & so much more!\n\n50 Minute Vinyasa Yoga Class - Set to music this soulful vinyasa class builds heat\, strength and flexibility while allowing the mind to flow into an exuberant state of meditation.\n\n\n\n50 Minute Class - 9:00 AM Saturday Morning - $10.00 Per Person - All Skill Levels Welcome - Bring your mat and water bottle\, we will provide everything else!\n\n\n\nWhen weather allows\, classes are held outdoors on the grass under our big beautiful shade trees!
X-ALT-DESC;FMTTYPE=text/html:Exercise\, Stress Relief\, Mindfulness\, Flexibility &amp\; so much more!<br />\n50 Minute Vinyasa Yoga Class - Set to music this soulful vinyasa class builds heat\, strength and flexibility while allowing the mind to flow into an exuberant state of meditation.<br />\n<br />\n50 Minute Class - 9:00 AM Saturday Morning - $10.00 Per Person - All Skill Levels Welcome - Bring your mat and water bottle\, we will provide everything else!<br />\n<br />\nWhen weather allows\, classes are held outdoors on the grass under our big beautiful shade trees!<br />\n<br />\n&nbsp\;
LOCATION:Crystal House boutique 455 - 99th Ave. NW Suite 230 Coon Rapids\, MN. 55433
UID:e.380.190661
SEQUENCE:3
DTSTAMP:20260419T225937Z
URL:http://members.metronorthchamber.org/events/details/good-morning-yoga-06-29-2019-190661
END:VEVENT

END:VCALENDAR
