BEGIN:VCALENDAR
VERSION:2.0
PRODID:-//ChamberMaster//Event Calendar 2.0//EN
METHOD:PUBLISH
X-PUBLISHED-TTL:P3D
REFRESH-INTERVAL:P3D
CALSCALE:GREGORIAN
BEGIN:VEVENT
DTSTART:20190427T140000Z
DTEND:20190427T150000Z
X-MICROSOFT-CDO-ALLDAYEVENT:FALSE
SUMMARY:Good Morning Yoga
DESCRIPTION:50 Minute Vinyasa Yoga Class - Set to music and lit only by candles this soulful vinyasa class builds heat\, strength and flexibility while allowing the mind to flow into an exuberant state of meditation by traveling inward as is enhanced by the darkness.\n\n\n\n50 Minute Class - 9:00 AM Saturday Morning - $10.00 Per Person - All Skill Levels Welcome - Bring your mat and water bottle\, we will provide everything else!
X-ALT-DESC;FMTTYPE=text/html:50 Minute Vinyasa Yoga Class - Set to music and lit only by candles this soulful vinyasa class builds heat\, strength and flexibility while allowing the mind to flow into an exuberant state of meditation by traveling inward as is enhanced by the darkness.<br />\n<br />\n50 Minute Class - 9:00 AM Saturday Morning - $10.00 Per Person - All Skill Levels Welcome - Bring your mat and water bottle\, we will provide everything else!
LOCATION:Crystal House boutique 455 - 99th Ave. NW Suite 230 Coon Rapids\, MN. 55433
UID:e.380.188927
SEQUENCE:3
DTSTAMP:20260420T041539Z
URL:http://members.metronorthchamber.org/events/details/good-morning-yoga-04-27-2019-188927
END:VEVENT

END:VCALENDAR
