BEGIN:VCALENDAR
VERSION:2.0
PRODID:-//ChamberMaster//Event Calendar 2.0//EN
METHOD:PUBLISH
X-PUBLISHED-TTL:P3D
REFRESH-INTERVAL:P3D
CALSCALE:GREGORIAN
BEGIN:VEVENT
DTSTART:20111205T220000Z
DTEND:20111205T230000Z
X-MICROSOFT-CDO-ALLDAYEVENT:FALSE
SUMMARY:Golf Task Force
DESCRIPTION:
X-ALT-DESC;FMTTYPE=text/html:
LOCATION:Chamber
UID:e.380.142856
SEQUENCE:3
DTSTAMP:20260426T015244Z
URL:http://members.metronorthchamber.org/events/details/golf-task-force-12-05-2011-142856
END:VEVENT

END:VCALENDAR
