BEGIN:VCALENDAR
VERSION:2.0
PRODID:-//ChamberMaster//Event Calendar 2.0//EN
METHOD:PUBLISH
X-PUBLISHED-TTL:P3D
REFRESH-INTERVAL:P3D
CALSCALE:GREGORIAN
BEGIN:VEVENT
DTSTART:20140515T170000Z
DTEND:20140516T000000Z
X-MICROSOFT-CDO-ALLDAYEVENT:FALSE
SUMMARY:Golf Fore Hearts - Walgreens 1st Annual Golf Tournament supporting AHA
DESCRIPTION:Join us for Walgreens first annual "Golf Fore Hearts" golf tournament supporting the American Heart Association!\n\n\n\nIf you'd like to participate\, please download the sponsorship form and/or registration form.\n\n\n\nWe are also accepting donations for our silent auction.
X-ALT-DESC;FMTTYPE=text/html:<br />\nJoin us for Walgreens first annual &quot\;Golf Fore Hearts&quot\; golf tournament supporting the American Heart Association!<br />\n<br />\nIf you&#39\;d like to participate\, please download the <u><a href="http://cloud.chambermaster.com/userfiles/UserFiles/chambers/380/File/Walgreens_AHA_SponsorshipRevised.pdf"><span style="color:#0000ff\;">sponsorship form</span></a></u> and/or <u><a href="http://cloud.chambermaster.com/userfiles/UserFiles/chambers/380/File/Walgreens_AHA_Registration.pdf"><span style="color:#0000ff\;">registration form</span></a></u>.<br />\n<br />\nWe are also accepting donations for our silent auction.<br />\n
LOCATION:Fox Hollow Golf Club
UID:e.380.150164
SEQUENCE:3
DTSTAMP:20260424T044107Z
URL:http://members.metronorthchamber.org/events/details/golf-fore-hearts-walgreens-1st-annual-golf-tournament-supporting-aha-05-15-2014-150164
END:VEVENT

END:VCALENDAR
