BEGIN:VCALENDAR
VERSION:2.0
PRODID:-//ChamberMaster//Event Calendar 2.0//EN
METHOD:PUBLISH
X-PUBLISHED-TTL:P3D
REFRESH-INTERVAL:P3D
CALSCALE:GREGORIAN
BEGIN:VEVENT
DTSTART:20191021T210000Z
DTEND:20191021T220000Z
X-MICROSOFT-CDO-ALLDAYEVENT:FALSE
SUMMARY:Golf Committee Meeting
DESCRIPTION:
X-ALT-DESC;FMTTYPE=text/html:
LOCATION:MetroNorth Chamber
UID:e.380.191024
SEQUENCE:3
DTSTAMP:20260419T180527Z
URL:http://members.metronorthchamber.org/events/details/golf-committee-meeting-10-14-2019-191024
END:VEVENT

END:VCALENDAR
