BEGIN:VCALENDAR
VERSION:2.0
PRODID:-//ChamberMaster//Event Calendar 2.0//EN
METHOD:PUBLISH
X-PUBLISHED-TTL:P3D
REFRESH-INTERVAL:P3D
CALSCALE:GREGORIAN
BEGIN:VEVENT
DTSTART:20181103T140000Z
DTEND:20181103T150000Z
X-MICROSOFT-CDO-ALLDAYEVENT:FALSE
SUMMARY:Glow Yoga
DESCRIPTION:Trendy\, glow-in-the-dark yoga classes\, practiced under neon and black light\, add a new twist to finding balance! We will be turning down the lights for Glow Yoga\, Saturday\, November 3rd. Make sure to wear your neon or white\, we provide everything else! If it feels like a fit\, glow for it!\n\n\n\n50 Minute Class - $10.00\n\n9:00 AM - Check-In Opens at 8:45 AM
X-ALT-DESC;FMTTYPE=text/html:Trendy\, glow-in-the-dark yoga classes\, practiced under neon and black light\, add a new twist to finding balance! We will be turning down the lights for Glow Yoga\, Saturday\, November 3rd. Make sure to wear your neon or white\, we provide everything else! If it feels like a fit\, glow for it!<br />\n<br />\n50 Minute Class - $10.00<br />\n9:00 AM - Check-In Opens at 8:45 AM
LOCATION:Crystal House boutique 455 - 99th Ave. NW Suite 230 Coon Rapids\, MN. 55433
UID:e.380.187312
SEQUENCE:3
DTSTAMP:20260420T152325Z
URL:http://members.metronorthchamber.org/events/details/glow-yoga-187312
END:VEVENT

END:VCALENDAR
