BEGIN:VCALENDAR
VERSION:2.0
PRODID:-//ChamberMaster//Event Calendar 2.0//EN
METHOD:PUBLISH
X-PUBLISHED-TTL:P3D
REFRESH-INTERVAL:P3D
CALSCALE:GREGORIAN
BEGIN:VEVENT
DTSTART:20150828T211500Z
DTEND:20150828T214500Z
X-MICROSOFT-CDO-ALLDAYEVENT:FALSE
SUMMARY:GlobalSites Ribbon Cutting
DESCRIPTION:Help us celebrate the Ribbon Cutting of GlobalSites. They're celebrating their new office and location in Centerville. There will be desserts from Nothing Bundt Cakes and door prizes.
X-ALT-DESC;FMTTYPE=text/html:Help us celebrate the Ribbon Cutting of GlobalSites. They&#39\;re celebrating their new office and location in Centerville. There will be desserts from Nothing Bundt Cakes and door prizes.
LOCATION:Globalsites 2016 Gateway Circle Suite C Centerville MN
UID:e.380.158544
SEQUENCE:3
DTSTAMP:20260423T043527Z
URL:http://members.metronorthchamber.org/events/details/globalsites-ribbon-cutting-08-28-2015-158544
END:VEVENT

END:VCALENDAR
