BEGIN:VCALENDAR
VERSION:2.0
PRODID:-//ChamberMaster//Event Calendar 2.0//EN
METHOD:PUBLISH
X-PUBLISHED-TTL:P3D
REFRESH-INTERVAL:P3D
CALSCALE:GREGORIAN
BEGIN:VEVENT
DTSTART:20130308T150000Z
DTEND:20130308T230000Z
X-MICROSOFT-CDO-ALLDAYEVENT:FALSE
SUMMARY:Global Makeover Day!
DESCRIPTION:Come be my guest!\n\nBe pampered\, try a new  LOOK\, get re-energized by feeling good!
X-ALT-DESC;FMTTYPE=text/html:<span style="font-size: 14px\;"><strong><span style="language: en-US\;"><span style="font-family: bookman old style\;"><span style="color: black\;">Come be my guest!</span></span></span><br />\n<span style="language: en-US\;"><span style="font-family: bookman old style\;"><span style="color: black\;">Be pampered\, try a new </span></span></span><span style="font-weight: bold\; language: en-US\;"><span style="font-family: book antiqua\;"><span style="color: black\;">&nbsp\;LOOK</span></span></span><span style="language: en-US\;"><span style="font-family: bookman old style\;"><span style="color: black\;">\, </span></span></span><span style="language: en-US\;"><span style="font-family: bookman old style\;"><span style="color: black\;">get re-energized by </span></span></span><span style="language: en-US\;"><span style="font-family: bookman old style\;"><span style="color: black\;">feeling good!</span></span></span><br />\n&nbsp\;</strong></span><br />\n
LOCATION:Karen' Mary Kay Studio 11721 Evergreen Cr NW Coon Rapids\, MN 55448 763-754-7758 Lakahofer@yahoo.com
UID:e.380.148683
SEQUENCE:3
DTSTAMP:20260425T015645Z
URL:http://members.metronorthchamber.org/events/details/global-makeover-day-03-08-2013-148683
END:VEVENT

END:VCALENDAR
