BEGIN:VCALENDAR
VERSION:2.0
PRODID:-//ChamberMaster//Event Calendar 2.0//EN
METHOD:PUBLISH
X-PUBLISHED-TTL:P3D
REFRESH-INTERVAL:P3D
CALSCALE:GREGORIAN
BEGIN:VEVENT
DTSTART:20161117T220000Z
DTEND:20161118T010000Z
X-MICROSOFT-CDO-ALLDAYEVENT:FALSE
SUMMARY:Give To The Max for NACE Ice Cream Bar
DESCRIPTION:Choose NACE as your non-profit to give to on Thursday November 17\, Give To The Max Day!  We welcome you to stop by and give on-line at the Foodshelf as we celebrate the day of giving with an icecream bar! Our staff and board look forward to meeting you\, serving you ice cream while touring and learning of the impact NACE has on our communities!
X-ALT-DESC;FMTTYPE=text/html:Choose NACE as your non-profit to give to on <strong>Thursday</strong> <strong>November 17</strong>\, <strong>Give To The Max Day</strong>!&nbsp\; We welcome you to stop by and give on-line<strong><em> at</em></strong> the Foodshelf as we celebrate the day of giving with an<em><strong> icecream bar! </strong></em>Our staff and board look forward to meeting you\, serving you ice cream while touring and learning of the impact NACE has on our communities!<br />\n<br />\n&nbsp\;
LOCATION:NACE Foodshelf and Clothing 18511 Hwy 65 NE East Bethel\, MN
UID:e.380.170146
SEQUENCE:3
DTSTAMP:20260422T014949Z
URL:http://members.metronorthchamber.org/events/details/give-to-the-max-for-nace-ice-cream-bar-170146
END:VEVENT

END:VCALENDAR
