BEGIN:VCALENDAR
VERSION:2.0
PRODID:-//ChamberMaster//Event Calendar 2.0//EN
METHOD:PUBLISH
X-PUBLISHED-TTL:P3D
REFRESH-INTERVAL:P3D
CALSCALE:GREGORIAN
BEGIN:VEVENT
DTSTART:20111110T224500Z
DTEND:20111110T224500Z
X-MICROSOFT-CDO-ALLDAYEVENT:FALSE
SUMMARY:Girls Night Out
DESCRIPTION:Working with Women\n\nGirls Night Out
X-ALT-DESC;FMTTYPE=text/html:Working with Women<br />\nGirls Night Out
LOCATION:Casa Rio 201 Jackson St Anoka\, MN 55303
UID:e.380.142851
SEQUENCE:3
DTSTAMP:20260426T033430Z
URL:http://members.metronorthchamber.org/events/details/girls-night-out-11-10-2011-142851
END:VEVENT

END:VCALENDAR
