BEGIN:VCALENDAR
VERSION:2.0
PRODID:-//ChamberMaster//Event Calendar 2.0//EN
METHOD:PUBLISH
X-PUBLISHED-TTL:P3D
REFRESH-INTERVAL:P3D
CALSCALE:GREGORIAN
BEGIN:VEVENT
DTSTART:20120620T233000Z
DTEND:20120621T003000Z
X-MICROSOFT-CDO-ALLDAYEVENT:FALSE
SUMMARY:Getting a Grip on Stress dinner
DESCRIPTION:Are you stressed out?  Tired? And want to do something about it?  If so join us for our Optimal Health series "Getting a Grip on Stress"  Dinner will be provided as well as great information.   \n\n\n\nSpace is limited  Please RSVP by Friday June 15th.\n\n763 205 3781
X-ALT-DESC;FMTTYPE=text/html:Are you stressed out? &nbsp\;Tired? And want to do something about it? &nbsp\;If so join us for our Optimal Health series &quot\;Getting a Grip on Stress&quot\; &nbsp\;Dinner will be provided as well as great information. &nbsp\;&nbsp\;<br />\n<br />\nSpace is limited &nbsp\;Please RSVP by Friday June 15th.<br />\n763 205 3781
LOCATION:HealthSource of Blaine Chiropractic and Progressive Rehab 10904 Baltimore St NE Suite 103 Blaine MN 55449
UID:e.380.144709
SEQUENCE:3
DTSTAMP:20260425T161422Z
URL:http://members.metronorthchamber.org/events/details/getting-a-grip-on-stress-dinner-06-20-2012-144709
END:VEVENT

END:VCALENDAR
