BEGIN:VCALENDAR
VERSION:2.0
PRODID:-//ChamberMaster//Event Calendar 2.0//EN
METHOD:PUBLISH
X-PUBLISHED-TTL:P3D
REFRESH-INTERVAL:P3D
CALSCALE:GREGORIAN
BEGIN:VEVENT
DTSTART:20140220T223000Z
DTEND:20140221T023000Z
X-MICROSOFT-CDO-ALLDAYEVENT:FALSE
SUMMARY:Get Your Taste On
DESCRIPTION:"Get Your Taste On" formerly called the Taste of Blaine\, will be at the National Sports Center in Blaine on Thursday\, February 20\, 2014 from 4:30 pm to 8:30 pm.\n\n	Last year almost 1\,000 people enjoyed the food from 30 different restaurants at the fundraiser event benefiting Free To Be.  Free To Be is a nonprofit 501C3 agency that accepts donated cars\, repairs them and then donates them to eligible Anoka County residents in need.  The Free To Be Car Care Program includes components of repair or provides initial transportation for individuals in need.\n\n	\n\n	For more details and a complete list of restaurants attending check out our website at www.freetobeinc.org.
X-ALT-DESC;FMTTYPE=text/html:<br />\n&ldquo\;<strong>Get Your Taste On</strong>&rdquo\; formerly called the <strong>Taste of Blaine</strong>\, will be at the National Sports Center in Blaine on <b>Thursday\, February 20\, 2014</b>&nbsp\;from 4:30 pm to 8:30 pm.\n<p>\n	Last year almost 1\,000 people enjoyed the food from 30 different restaurants at the fundraiser event benefiting Free To Be.&nbsp\; Free To Be is a nonprofit 501C3 agency that accepts donated cars\, repairs them and then donates them to eligible Anoka County residents in need.&nbsp\; The Free To Be Car Care Program includes components of repair or provides initial transportation for individuals in need.<br />\n	<br />\n	For more details and a complete list of restaurants attending check out our website at <a href="http://freetobeinc.org/2013/12/01/get-your-taste-on/">www.freetobeinc.org</a>.<br />\n	<br />\n	&nbsp\;</p>\n
LOCATION:National Sports Center 1700 105th Ave. NE Blaine\, MN 55449
UID:e.380.150147
SEQUENCE:3
DTSTAMP:20260424T075218Z
URL:http://members.metronorthchamber.org/events/details/get-your-taste-on-02-20-2014-150147
END:VEVENT

END:VCALENDAR
