BEGIN:VCALENDAR
VERSION:2.0
PRODID:-//ChamberMaster//Event Calendar 2.0//EN
METHOD:PUBLISH
X-PUBLISHED-TTL:P3D
REFRESH-INTERVAL:P3D
CALSCALE:GREGORIAN
BEGIN:VEVENT
DTSTART:20121025T163000Z
DTEND:20121025T173000Z
X-MICROSOFT-CDO-ALLDAYEVENT:FALSE
SUMMARY:Get Paid To Shop
DESCRIPTION:Get Paid To Shop" Event\n\n\n\nJoin me as I show you how to save time and money shopping from your favorite stores\, how to use coupon codes\, find "Hot Deals" and get paid cash back on the things you buy on a regular basis.\n\n\n\nWith the holiday's just around the corner you won't want to miss this event!  Bring your shopping list and get started early.\n\n\n\nRegister for your FREE preferred customer account before the event at www.ShopMorell.com and be entered into a drawing for a $25.00 gift card.\n\n\n\nHeathly snacks and beverages served.
X-ALT-DESC;FMTTYPE=text/html:<font face="tahoma\,sans-serif"><i>Get Paid To Shop&quot\; Event<br />\n<br />\nJoin me as I show you how to save time and money shopping from your favorite stores\, how to use coupon codes\, find &quot\;Hot Deals&quot\; and get paid cash back on the things you buy on a regular basis.<br />\n<br />\nWith the holiday&#39\;s just around the corner you won&#39\;t want to miss this event!&nbsp\; Bring your shopping list and get started early.<br />\n<br />\nRegister for your FREE preferred customer account before the event at <a href="http://www.ShopMorell.com" target="_blank">www.ShopMorell.com</a> and be entered into a drawing for a $25.00 gift card.<br />\n<br />\nHeathly snacks and beverages served.<br />\n<br />\n</i></font>
LOCATION:MetroNorth Chamber of Commerce Conference Room
UID:e.380.146753
SEQUENCE:3
DTSTAMP:20260425T111722Z
URL:http://members.metronorthchamber.org/events/details/get-paid-to-shop-10-25-2012-146753
END:VEVENT

END:VCALENDAR
