BEGIN:VCALENDAR
VERSION:2.0
PRODID:-//ChamberMaster//Event Calendar 2.0//EN
METHOD:PUBLISH
X-PUBLISHED-TTL:P3D
REFRESH-INTERVAL:P3D
CALSCALE:GREGORIAN
BEGIN:VEVENT
DTSTART:20170203T000000Z
DTEND:20170203T020000Z
X-MICROSOFT-CDO-ALLDAYEVENT:FALSE
SUMMARY:Gather Oral Histories -- For your family\, your company\, or the museum
DESCRIPTION:Help preserve history first hand by interviewing those who lived it. Oral histories are a key way to keep our local stories and memories alive for future generations and researchers. We need interviewers to lead and record interviews with Anoka County residents -- and you need to keep preserving your company or family legacy!\n\n\n\nGuest trainer Ryan Barland is an Oral Historian from MNHS. Receive the MNHS standards for conducting oral interviews\, as well as some information on the goals we have about gathering veteran stories.
X-ALT-DESC;FMTTYPE=text/html:<span style="font-family:times new roman">Help preserve history first hand by interviewing those who lived it. Oral histories are a key way to keep our local stories and memories alive for future generations and researchers. We need interviewers to lead and record interviews with Anoka County residents -- and you need to keep preserving your company or family legacy!</span><br />\n<br />\n<span style="color:black"><span style="font-family:gill sans mt">Guest trainer Ryan Barland is an Oral Historian from MNHS.</span></span><span style="color:black"><span style="font-family:gill sans mt"> Receive the MNHS standards for conducting oral interviews\, as well as some information on the goals we have about gathering veteran stories.</span></span><br />\n&nbsp\;
LOCATION:Anoka County History Center 2135 Third Ave N Anoka\, MN 55303
UID:e.380.171443
SEQUENCE:3
DTSTAMP:20260421T204555Z
URL:http://members.metronorthchamber.org/events/details/gather-oral-histories-for-your-family-your-company-or-the-museum-171443
END:VEVENT

END:VCALENDAR
