BEGIN:VCALENDAR
VERSION:2.0
PRODID:-//ChamberMaster//Event Calendar 2.0//EN
METHOD:PUBLISH
X-PUBLISHED-TTL:P3D
REFRESH-INTERVAL:P3D
CALSCALE:GREGORIAN
BEGIN:VEVENT
DTSTART:20160609T140000Z
DTEND:20160612T220000Z
X-MICROSOFT-CDO-ALLDAYEVENT:FALSE
SUMMARY:Garage Sale
DESCRIPTION:As a part of Spring Lake Park's Tower Days\, Life Prep Academy will again have a Garage Sale fund raiser.\n\nWe will be open from 9-5 on Thursday\, Friday\, and Saturday.  And from noon to 3:00 on Sunday.\n\nShop for great deals\, and support homeless teens!
X-ALT-DESC;FMTTYPE=text/html:As a part of Spring Lake Park&#39\;s Tower Days\, Life Prep Academy will again have a Garage Sale fund raiser.<br />\nWe will be open from 9-5 on Thursday\, Friday\, and Saturday.&nbsp\; And from noon to 3:00 on Sunday.<br />\nShop for great deals\, and support homeless teens!
LOCATION:1628 County Highway 10 NE Spring Lake Park 55432
UID:e.380.168442
SEQUENCE:3
DTSTAMP:20260422T102846Z
URL:http://members.metronorthchamber.org/events/details/garage-sale-06-09-2016-168442
END:VEVENT

END:VCALENDAR
