BEGIN:VCALENDAR
VERSION:2.0
PRODID:-//ChamberMaster//Event Calendar 2.0//EN
METHOD:PUBLISH
X-PUBLISHED-TTL:P3D
REFRESH-INTERVAL:P3D
CALSCALE:GREGORIAN
BEGIN:VEVENT
DTSTART:20191021T130000Z
DTEND:20191021T140000Z
X-MICROSOFT-CDO-ALLDAYEVENT:FALSE
SUMMARY:Gala Committee
DESCRIPTION:Enjoy planning festive social events? Join our Gala Committee and help to plan one of MetroNorth's biggest festivities of the year! All members are welcome.
X-ALT-DESC;FMTTYPE=text/html:<span style="color: rgb(0\, 0\, 128)\;"><span style="font-size: 11px\;"><span style="font-family: tahoma\;">Enjoy planning festive social events? Join our Gala Committee and help to plan one of MetroNorth&#39\;s biggest festivities of the year! All members are welcome.</span></span></span>
LOCATION:MetroNorth Chamber office 9380 Central Ave N\, Suite 320 Blaine\, MN 55434
UID:e.380.148827
SEQUENCE:3
DTSTAMP:20260419T193204Z
URL:http://members.metronorthchamber.org/events/details/gala-committee-10-25-2019-148827
END:VEVENT

END:VCALENDAR
