BEGIN:VCALENDAR
VERSION:2.0
PRODID:-//ChamberMaster//Event Calendar 2.0//EN
METHOD:PUBLISH
X-PUBLISHED-TTL:P3D
REFRESH-INTERVAL:P3D
CALSCALE:GREGORIAN
BEGIN:VEVENT
DTSTART:20150529T143000Z
DTEND:20150529T153000Z
X-MICROSOFT-CDO-ALLDAYEVENT:FALSE
SUMMARY:Gala Committee
DESCRIPTION:Enjoy planning festive social events? Join our Gala Committee and help to plan one of MetroNorth's biggest festivities of the year! All members are welcome.
X-ALT-DESC;FMTTYPE=text/html:<span style="color: rgb(0\, 0\, 128)\;"><span style="font-size: 11px\;"><span style="font-family: tahoma\;">Enjoy planning festive social events? Join our Gala Committee and help to plan one of MetroNorth&#39\;s biggest festivities of the year! All members are welcome.</span></span></span>
LOCATION:Running Aces Casino & Racetrack
UID:e.380.148774
SEQUENCE:3
DTSTAMP:20260423T095142Z
URL:http://members.metronorthchamber.org/events/details/gala-committee-05-29-2015-148774
END:VEVENT

END:VCALENDAR
