BEGIN:VCALENDAR
VERSION:2.0
PRODID:-//ChamberMaster//Event Calendar 2.0//EN
METHOD:PUBLISH
X-PUBLISHED-TTL:P3D
REFRESH-INTERVAL:P3D
CALSCALE:GREGORIAN
BEGIN:VEVENT
DTSTART:20190209T163000Z
DTEND:20190210T030000Z
X-MICROSOFT-CDO-ALLDAYEVENT:FALSE
SUMMARY:Wild Mountain Ski & Snowboard Area - Friends & Family Days
DESCRIPTION:FRIENDS & FAMILY DAYS\n\nIf you are serious about learning to ski or snowboard\, Wild Mountain is serious about helping you.\n\nDiscounts on lift tickets and equipment rental\n\nFREE first-time beginner ski or snowboard lessons.  The first lesson begins at 11 am and a new lesson will begin every hour on the hour.  The last lesson will begin at 3 pm.\n\nDiscounts are valid 10:30 am - close\n\nMust show the coupon to receive discounts.
X-ALT-DESC;FMTTYPE=text/html:<p><span style="font-size:14px"><strong>FRIENDS &amp\; FAMILY DAYS</strong></span></p>\n\n<div><span style="font-size:14px">If you are serious about learning to ski or snowboard\, Wild Mountain is serious about helping you.<br />\nDiscounts on lift tickets and equipment rental<br />\nFREE first-time beginner ski or snowboard lessons.&nbsp\; The first lesson begins at 11 am&nbsp\;and a new lesson will begin every hour on the hour.&nbsp\; The last lesson will begin at 3 pm.<br />\nDiscounts are valid 10:30 am - close<br />\nMust show the coupon to receive discounts.</span><br />\n&nbsp\;</div>\n
LOCATION:37200 Wild Mountain Rd\, Taylors Falls\, MN 55084
UID:e.380.188170
SEQUENCE:3
DTSTAMP:20260420T074356Z
URL:http://members.metronorthchamber.org/events/details/friends-family-days-188170
END:VEVENT

END:VCALENDAR
