BEGIN:VCALENDAR
VERSION:2.0
PRODID:-//ChamberMaster//Event Calendar 2.0//EN
METHOD:PUBLISH
X-PUBLISHED-TTL:P3D
REFRESH-INTERVAL:P3D
CALSCALE:GREGORIAN
BEGIN:VEVENT
DTSTART:20190222T233000Z
DTEND:20190223T023000Z
X-MICROSOFT-CDO-ALLDAYEVENT:FALSE
SUMMARY:Fridley Lions 2019 Winter Warm Up
DESCRIPTION:Food Wine/Beer Tasting Extravaganza.   Live & Silent Auction
X-ALT-DESC;FMTTYPE=text/html:Food Wine/Beer Tasting Extravaganza.&nbsp\; &nbsp\;Live &amp\; Silent Auction
LOCATION:Banquets of Minnesota - 6310 Highway 65 NE Fridley\, MN 55432
UID:e.380.187881
SEQUENCE:3
DTSTAMP:20260420T074014Z
URL:http://members.metronorthchamber.org/events/details/fridley-lions-2019-winter-warm-up-187881
END:VEVENT

END:VCALENDAR
