BEGIN:VCALENDAR
VERSION:2.0
PRODID:-//ChamberMaster//Event Calendar 2.0//EN
METHOD:PUBLISH
X-PUBLISHED-TTL:P3D
REFRESH-INTERVAL:P3D
CALSCALE:GREGORIAN
BEGIN:VEVENT
DTSTART:20140517T140000Z
DTEND:20140517T160000Z
X-MICROSOFT-CDO-ALLDAYEVENT:FALSE
SUMMARY:Fridley Kids In Action 5K Fun Run
DESCRIPTION:The Nutrition Hub will be at the Fridley Kids In Action 5K Fun Run!  Stop by our table and register to win a special prize!  \n\nThis Fun Run will support local non-profit - Can Do Canines which provides service dogs for free to people with disabilities and for tree planting through Tree Trust!\n\n\n\nStaff from Stevenson Elementary in Fridley and Hayes Elementary both run and volunteer for the event. \n\n\n\nThe Nutrition Hub will have information on hydration and post run nutrition!
X-ALT-DESC;FMTTYPE=text/html:<br />\n<span style="font-size:16px\;"><span style="font-family:arial\,helvetica\,sans-serif\;"><span style="background-color:#00ff00\;">The Nutrition Hub</span> will be at the Fridley Kids In Action 5K Fun Run! &nbsp\;Stop by our table and register to <strong>win</strong> a special prize! &nbsp\;<br />\nThis Fun Run will support local non-profit - <span style="orphans: 3\; widows: 3\;">Can Do Canines&nbsp\;</span><span style="orphans: 3\; widows: 3\;">which provides service dogs for free to people with disabilities and for tree planting through Tree Trust!<br />\n<br />\nStaff from Stevenson Elementary in Fridley and Hayes Elementary both run and volunteer for the event.&nbsp\;<br />\n<br />\n<span style="background-color:#00ff00\;">The Nutrition Hub</span> will have information on hydration and post run nutrition!&nbsp\;</span></span></span>
LOCATION:Commons Park across the street from the Fridley Community Center\, at 6085 7th St. NE
UID:e.380.151331
SEQUENCE:3
DTSTAMP:20260424T030652Z
URL:http://members.metronorthchamber.org/events/details/fridley-kids-in-action-5k-fun-run-05-17-2014-151331
END:VEVENT

END:VCALENDAR
