BEGIN:VCALENDAR
VERSION:2.0
PRODID:-//ChamberMaster//Event Calendar 2.0//EN
METHOD:PUBLISH
X-PUBLISHED-TTL:P3D
REFRESH-INTERVAL:P3D
CALSCALE:GREGORIAN
BEGIN:VEVENT
DTSTART:20180616T170000Z
DTEND:20180617T040000Z
X-MICROSOFT-CDO-ALLDAYEVENT:FALSE
SUMMARY:Fridley 49ers Days Festival
DESCRIPTION:'49er Days Festival - June 16\, 2018\n\nAll day (noon - 10 p.m.) - Food concessions\, beer and wine sales\n\nNoon - 3 p.m. - Kids activities\n\nNoon - 5 p.m. - Inflatables\, lasertag\, kids DJ\, petting zoo\, police department dunk tank\n\n3:30-4:15 p.m. - Magician \n\n5-6 p.m. - Dixie Kats Band\n\n6-11 p.m. - Fridley High School All-School Reunion\n\n6 - 10 p.m. - Jonah and the Whales*\n\nDusk - Fireworks \n\n\n\n*After 6 p.m.\, attendees will need a festival button\, which can be purchased for $3\, for admission to see Jonah and the Whales. There is no admission price to see the fireworks show.
X-ALT-DESC;FMTTYPE=text/html:<h2 id="ctl00_ctl00_MainContent_ModuleContent_ctl00_ctl03_eventTitle" style="box-sizing: content-box\; margin: 0px 0px 3px\; padding: 0px 50px 0px 0px\; border: 0px\; outline: 0px\; font-size: 15pt\; font-family: inherit\; vertical-align: baseline\;">&#39\;49er Days Festival - June 16\, 2018<br />\nAll day (noon - 10 p.m.) - Food concessions\, beer and wine sales<br />\nNoon - 3 p.m. - Kids activities<br />\nNoon - 5 p.m. - Inflatables\, lasertag\, kids DJ\, petting zoo\, police department dunk tank<br />\n3:30-4:15 p.m. - Magician&nbsp\;<br />\n5-6 p.m. - Dixie Kats Band<br />\n6-11 p.m. - Fridley High School All-School Reunion<br />\n6 - 10 p.m. - Jonah and the Whales*<br />\nDusk - Fireworks&nbsp\;<br />\n<br />\n*After 6 p.m.\, attendees will need a festival button\, which can be purchased for $3\, for admission to see Jonah and the Whales. There is no admission price to see the fireworks show.</h2>\n
LOCATION:
UID:e.380.184880
SEQUENCE:3
DTSTAMP:20260420T213129Z
URL:http://members.metronorthchamber.org/events/details/fridley-49ers-days-festival-184880
END:VEVENT

END:VCALENDAR
