BEGIN:VCALENDAR
VERSION:2.0
PRODID:-//ChamberMaster//Event Calendar 2.0//EN
METHOD:PUBLISH
X-PUBLISHED-TTL:P3D
REFRESH-INTERVAL:P3D
CALSCALE:GREGORIAN
BEGIN:VEVENT
DTSTART:20150312T130000Z
DTEND:20150312T140000Z
X-MICROSOFT-CDO-ALLDAYEVENT:FALSE
SUMMARY:Freshman Forum with US Rep Tom Emmer
DESCRIPTION:The MetroNorth Chamber's Government Affairs Committee is pleased to partner with the US Chamber of Commerce in hosting US Rep. Tom Emmer. A conversation about current national issues and other topics important to north metro businesses will be had.
X-ALT-DESC;FMTTYPE=text/html:<span style="color: rgb(31\, 73\, 125)\;">The MetroNorth Chamber&rsquo\;s Government Affairs Committee </span><span style="color: rgb(31\, 73\, 125)\;">is pleased to partner with the </span><span style="color: rgb(31\, 73\, 125)\;">US Chamber of Commerce in hosting </span><span style="color: rgb(31\, 73\, 125)\;">US Rep. Tom Emmer.&nbsp\;A conversation about current national issues and other topics important to north metro businesses will be had.&nbsp\;</span>
LOCATION:Rasmussen College Blaine 3629 95th Avenue NE Blaine MN 55014
UID:e.380.156904
SEQUENCE:3
DTSTAMP:20260423T111712Z
URL:http://members.metronorthchamber.org/events/details/freshman-forum-with-us-rep-tom-emmer-03-12-2015-156904
END:VEVENT

END:VCALENDAR
