BEGIN:VCALENDAR
VERSION:2.0
PRODID:-//ChamberMaster//Event Calendar 2.0//EN
METHOD:PUBLISH
X-PUBLISHED-TTL:P3D
REFRESH-INTERVAL:P3D
CALSCALE:GREGORIAN
BEGIN:VEVENT
DTSTART:20180519T133000Z
DTEND:20180519T143000Z
X-MICROSOFT-CDO-ALLDAYEVENT:FALSE
SUMMARY:FREE Workout - Anytime Fitness Ham Lake
DESCRIPTION:Join us at Anytime Fitness for a FREE WORKOUT!\n\n\n\nWe will be outside!!\n\n\n\nIf inclement weather\; bring clean shoes to wear inside.
X-ALT-DESC;FMTTYPE=text/html:Join us at Anytime Fitness for a FREE WORKOUT!<br />\n<br />\nWe will be outside!!<br />\n<br />\nIf inclement weather\; bring clean shoes to wear inside.
LOCATION:Anytime Fitness 1460 - 133rd Lane NE Ham Lake
UID:e.380.183775
SEQUENCE:3
DTSTAMP:20260420T213300Z
URL:http://members.metronorthchamber.org/events/details/free-workout-anytime-fitness-ham-lake-183775
END:VEVENT

END:VCALENDAR
