BEGIN:VCALENDAR
VERSION:2.0
PRODID:-//ChamberMaster//Event Calendar 2.0//EN
METHOD:PUBLISH
X-PUBLISHED-TTL:P3D
REFRESH-INTERVAL:P3D
CALSCALE:GREGORIAN
BEGIN:VEVENT
DTSTART:20190207T133000Z
DTEND:20190207T140000Z
X-MICROSOFT-CDO-ALLDAYEVENT:FALSE
SUMMARY:FREE Seminar - Managing Remote Teams
DESCRIPTION:Whether you have one employee working at home or you manage a global distributed team\, this workshop will give you real world advice on how to manage remote teams.\n\nYou will learn practical tips and insights you can apply immediately to your organization:\n\n	What are the challenges and opportunties of remote teams.\n	How to effectively manage communication.\n	How to manage projects and productivity.\n	What are the differences between internal and external remote teams.\n	How to navigate cultural differences\n	What are the dysfunctions to be aware of.\n	What are the best tools to manage projects.\n	How to determine if someone is a good fit to work remotely.\n	How to cultivate culture virtually.\n\nFacilitators\n\nKurt Schmidt // President\, Foundry // Led PMO function for distributed workforce of 350+ devs.\n\nJosh Berger // Partner\, Grow & Co // CEO\, Bright Hat // Over 23 years in domestic and offshore staffing.\n\nKevin McGinley // Field CTO\, Snowflake // 20+ years managing distributed client/vendor analytics teams.
X-ALT-DESC;FMTTYPE=text/html:Whether you have one employee working at home or you manage a global distributed team\, this workshop will give you real world advice on how to manage remote teams.<br />\nYou will learn practical tips and insights you can apply immediately to your organization:\n<ul>\n	<li style="padding:0px\;"><span style="padding-top:0px\;">What are the challenges and opportunties of remote teams.</span></li>\n	<li style="padding:5px 0px 0px\;"><span style="padding-top:0px\;">How to effectively manage communication.</span></li>\n	<li style="padding:5px 0px 0px\;"><span style="padding-top:0px\;">How to manage projects and productivity.</span></li>\n	<li style="padding:5px 0px 0px\;"><span style="padding-top:0px\;">What are the differences between internal and external remote teams.</span></li>\n	<li style="padding:5px 0px 0px\;"><span style="padding-top:0px\;">How to navigate cultural differences</span></li>\n	<li style="padding:5px 0px 0px\;">What are the dysfunctions to be aware of.</li>\n	<li style="padding:5px 0px 0px\;">What are the best tools to manage projects.</li>\n	<li style="padding:5px 0px 0px\;">How to determine if someone is a good fit to work remotely.</li>\n	<li style="padding:5px 0px 0px\;">How to cultivate culture virtually.</li>\n</ul>\n<span style="font-weight:700\;padding-top:0px\;">Facilitators</span><br />\nKurt Schmidt // President\, Foundry // Led PMO function for distributed workforce of 350+ devs.<br />\nJosh Berger // Partner\, Grow &amp\; Co // CEO\, Bright Hat // Over 23 years in domestic and offshore staffing.<br />\nKevin McGinley // Field CTO\, Snowflake // 20+ years managing distributed client/vendor analytics teams.
LOCATION:RBC Plaza 60 South 6th Street Lower Level Conference Room B Minneapolis\, MN 55402
UID:e.380.187933
SEQUENCE:3
DTSTAMP:20260420T073757Z
URL:http://members.metronorthchamber.org/events/details/free-seminar-managing-remote-teams-187933
END:VEVENT

END:VCALENDAR
