BEGIN:VCALENDAR
VERSION:2.0
PRODID:-//ChamberMaster//Event Calendar 2.0//EN
METHOD:PUBLISH
X-PUBLISHED-TTL:P3D
REFRESH-INTERVAL:P3D
CALSCALE:GREGORIAN
BEGIN:VEVENT
DTSTART:20190312T220000Z
DTEND:20190312T230000Z
X-MICROSOFT-CDO-ALLDAYEVENT:FALSE
SUMMARY:Free Seminar
DESCRIPTION:Free Seminars
X-ALT-DESC;FMTTYPE=text/html:<span style="background:yellow\;">&nbsp\;Free Seminars<span style="color:#1F497D\;">&nbsp\; &nbsp\;&nbsp\;</span></span>
LOCATION:Anytime Fitness Ham Lake 1460 133rd Lane NE\, Unit B Ham Lake\, MN 55304 763-413-9348
UID:e.380.185693
SEQUENCE:3
DTSTAMP:20260420T073836Z
URL:http://members.metronorthchamber.org/events/details/free-seminar-03-12-2019-185693
END:VEVENT

END:VCALENDAR
