BEGIN:VCALENDAR
VERSION:2.0
PRODID:-//ChamberMaster//Event Calendar 2.0//EN
METHOD:PUBLISH
X-PUBLISHED-TTL:P3D
REFRESH-INTERVAL:P3D
CALSCALE:GREGORIAN
BEGIN:VEVENT
DTSTART:20190109T000000Z
DTEND:20190109T024500Z
X-MICROSOFT-CDO-ALLDAYEVENT:FALSE
SUMMARY:FREE Marketing Workshop for Small Businesses - Skol Marketing
DESCRIPTION:Kick off 2019 in a way that can make the year even better for your small business! Join the Professional Editors Network for a two-part presentation on ways to market your small business more effectively. You'll learn how to gain visibility both off- and online. We'll delve into some marketing basics\, then move on to hot-topic search engine optimization (SEO).\n\n \n\nPART 1: Judith Brenner will describe how to gain visibility for your business using these best practices: strategies for business card designs\, digital marketing eblasts\, group texts and establishing a low-cost internet presence. With the right tools in place\, you'll be ready to market your business.\n\n \n\nPART 2: Ben Theis will explain what SEO is\, why it's essential to understand and how you can use it more effectively. Ben will also provide an overview of tactics to help your website move up on internet searches. Don't have a website or time to implement SEO? Skol Marketing\, the company Ben founded\, can help you build an optimized website.\n\n \n\nDate & Time\n\n\nTue\, January 8\, 2019\n\n6:00 PM   8:45 PM CST\n\n \n\n\nLocation\n\n\nSouthdale Library\n\nEthel Berry Room\n\n7001 York Avenue S\n\nEdina\, MN 55435\n\n \n\n\nThis meeting is limited to 45 people. You must email your RSVP to asstpencoordinator@pensite.org.
X-ALT-DESC;FMTTYPE=text/html:<p style="box-sizing: border-box\; line-height: 1.7\; margin: 0px 0px 10px\; color: rgb(116\, 116\, 116)\; font-family: &quot\;PT Sans&quot\;\, Arial\, Helvetica\, sans-serif\; font-size: 17px\; background-color: rgb(255\, 255\, 255)\;">Kick off 2019 in a way that can make the year even better for your small business! Join the&nbsp\;<a href="http://www.pensite.org/" style="box-sizing: border-box\; text-decoration-line: none\; color: rgb(51\, 51\, 51)\; transition-property: color\, background-color\, border-color\; transition-duration: 0.2s\; transition-timing-function: linear\;">Professional Editors Network</a>&nbsp\;for a two-part presentation on ways to market your small business more effectively. You&rsquo\;ll learn how to gain visibility both off- and online. We&rsquo\;ll delve into some marketing basics\, then move on to hot-topic search engine optimization (SEO).</p>\n\n<p style="box-sizing: border-box\; line-height: 1.7\; margin: 0px 0px 10px\; color: rgb(116\, 116\, 116)\; font-family: &quot\;PT Sans&quot\;\, Arial\, Helvetica\, sans-serif\; font-size: 17px\; background-color: rgb(255\, 255\, 255)\;">&nbsp\;</p>\n\n<p style="box-sizing: border-box\; line-height: 1.7\; margin: 0px 0px 10px\; color: rgb(116\, 116\, 116)\; font-family: &quot\;PT Sans&quot\;\, Arial\, Helvetica\, sans-serif\; font-size: 17px\; background-color: rgb(255\, 255\, 255)\;"><span style="box-sizing: border-box\; font-weight: 700\;">PART 1:</span>&nbsp\;<span style="box-sizing: border-box\; font-weight: 700\;">Judith Brenner</span>&nbsp\;will describe how to gain visibility for your business using these best practices: strategies for business card designs\, digital marketing eblasts\, group texts and establishing a low-cost internet presence. With the right tools in place\, you&#39\;ll be ready to market your business.</p>\n\n<p style="box-sizing: border-box\; line-height: 1.7\; margin: 0px 0px 10px\; color: rgb(116\, 116\, 116)\; font-family: &quot\;PT Sans&quot\;\, Arial\, Helvetica\, sans-serif\; font-size: 17px\; background-color: rgb(255\, 255\, 255)\;">&nbsp\;</p>\n\n<p style="box-sizing: border-box\; line-height: 1.7\; margin: 0px 0px 10px\; color: rgb(116\, 116\, 116)\; font-family: &quot\;PT Sans&quot\;\, Arial\, Helvetica\, sans-serif\; font-size: 17px\; background-color: rgb(255\, 255\, 255)\;"><span style="box-sizing: border-box\; font-weight: 700\;">PART 2:</span>&nbsp\;<span style="box-sizing: border-box\; font-weight: 700\;">Ben Theis</span>&nbsp\;will explain what SEO is\, why it&rsquo\;s essential to understand and how you can use it more effectively. Ben will also provide an overview of tactics to help your website move up on internet searches. Don&#39\;t have a website or time to implement SEO? Skol Marketing\, the company Ben founded\, can help you build an optimized website.</p>\n\n<p style="box-sizing: border-box\; line-height: 1.7\; margin: 0px 0px 10px\; color: rgb(116\, 116\, 116)\; font-family: &quot\;PT Sans&quot\;\, Arial\, Helvetica\, sans-serif\; font-size: 17px\; background-color: rgb(255\, 255\, 255)\;">&nbsp\;</p>\n\n<h2 class="label-primary l-mar-bot-2" data-automation="listing-info-language" data-fontsize="18" data-lineheight="28" style="box-sizing: border-box\; color: rgb(51\, 51\, 51)\; margin: 24px 0px\; font-family: &quot\;Open Sans&quot\;\, Arial\, Helvetica\, sans-serif\; font-weight: 300\; line-height: 1.6\; font-size: 18px\; background-color: rgb(255\, 255\, 255)\;">Date &amp\; Time</h2>\n\n<div class="event-details__data" style="box-sizing: border-box\; color: rgb(116\, 116\, 116)\; font-family: &quot\;PT Sans&quot\;\, Arial\, Helvetica\, sans-serif\; font-size: 17px\; background-color: rgb(255\, 255\, 255)\;">\n<p style="box-sizing: border-box\; line-height: 1.7\; margin: 0px 0px 10px\;">Tue\, January 8\, 2019</p>\n\n<p style="box-sizing: border-box\; line-height: 1.7\; margin: 0px 0px 10px\;">6:00 PM &ndash\; 8:45 PM CST</p>\n\n<p class="hide-small hide-medium" style="box-sizing: border-box\; line-height: 1.7\; margin: 0px 0px 10px\;">&nbsp\;</p>\n</div>\n\n<h2 class="label-primary l-mar-bot-2" data-fontsize="18" data-lineheight="28" style="box-sizing: border-box\; color: rgb(51\, 51\, 51)\; margin: 24px 0px\; font-family: &quot\;Open Sans&quot\;\, Arial\, Helvetica\, sans-serif\; font-weight: 300\; line-height: 1.6\; font-size: 18px\; background-color: rgb(255\, 255\, 255)\;">Location</h2>\n\n<div class="event-details__data" style="box-sizing: border-box\; color: rgb(116\, 116\, 116)\; font-family: &quot\;PT Sans&quot\;\, Arial\, Helvetica\, sans-serif\; font-size: 17px\; background-color: rgb(255\, 255\, 255)\;">\n<p style="box-sizing: border-box\; line-height: 1.7\; margin: 0px 0px 10px\;">Southdale Library</p>\n\n<p style="box-sizing: border-box\; line-height: 1.7\; margin: 0px 0px 10px\;">Ethel Berry Room</p>\n\n<p style="box-sizing: border-box\; line-height: 1.7\; margin: 0px 0px 10px\;">7001 York Avenue S</p>\n\n<p style="box-sizing: border-box\; line-height: 1.7\; margin: 0px 0px 10px\;">Edina\, MN 55435</p>\n\n<p style="box-sizing: border-box\; line-height: 1.7\; margin: 0px 0px 10px\;">&nbsp\;</p>\n</div>\n\n<h3 data-fontsize="16" data-lineheight="28" style="box-sizing: border-box\; margin: 24px 0px\; line-height: 1.8\; font-size: 16px\; color: rgb(116\, 116\, 116)\; font-family: &quot\;PT Sans&quot\;\, Arial\, Helvetica\, sans-serif\; background-color: rgb(255\, 255\, 255)\;"><span style="box-sizing: border-box\;">This meeting is limited to 45 people. You must email your RSVP to&nbsp\;</span><a href="mailto:asstpencoordinator@pensite.org" rel="nofollow noopener noreferrer" style="box-sizing: border-box\; text-decoration-line: none\; color: rgb(51\, 51\, 51)\; transition-property: color\, background-color\, border-color\; transition-duration: 0.2s\; transition-timing-function: linear\;" target="_blank">asstpencoordinator@pensite.org</a>.</h3>\n
LOCATION:Southdale Library Ethel Berry Room 7001 York Avenue S Edina\,MN55435United States
UID:e.380.187865
SEQUENCE:3
DTSTAMP:20260420T091801Z
URL:http://members.metronorthchamber.org/events/details/free-marketing-workshop-for-small-businesses-skol-marketing-187865
END:VEVENT

END:VCALENDAR
