BEGIN:VCALENDAR
VERSION:2.0
PRODID:-//ChamberMaster//Event Calendar 2.0//EN
METHOD:PUBLISH
X-PUBLISHED-TTL:P3D
REFRESH-INTERVAL:P3D
CALSCALE:GREGORIAN
BEGIN:VEVENT
DTSTART:20120919T160000Z
DTEND:20120919T170000Z
X-MICROSOFT-CDO-ALLDAYEVENT:FALSE
SUMMARY:FREE Lunch & Learn - Desktop Paper Management
DESCRIPTION:FREE lunch 'n learn: Desktop Paper Management\n\nWednesday\, Sept. 19th 11-noon\n\nMetroNorth Chamber of Commerce\n\nThe 21st Century Bank Building\, 9380 Central Ave\, NE\, Suite 320\, Blaine\, MN 55434\n\n\n\nDoes your desktop or kitchen counter have piles of paper? Want to learn how to better organize bills and papers related to your daily\, weekly\, monthly and future to-dos?\n\nJoin Smiling Spaces for our upcoming Lunch 'n Learn: Desktop Paper Management\n\n\n	\n		Learn how to set up a tickler file system to better manage papers and to-dos\n	\n		Learn how to keep track of bills and bill paying essentials\n	\n		See examples of favorite organizing products for the desktop and home office\n\nPlease visit www.learnpapermanagement.eventbrite.com to register.\n\n\n\nLess Piles\, More Smiles!
X-ALT-DESC;FMTTYPE=text/html:FREE lunch &#39\;n learn: Desktop Paper Management<br />\nWednesday\, Sept. 19th 11-noon<br />\nMetroNorth Chamber of Commerce<br />\nThe 21st Century Bank Building\, 9380 Central Ave\, NE\, Suite 320\, Blaine\, MN 55434<br />\n<br />\nDoes your desktop or kitchen counter have piles of paper? Want to learn how to better organize bills and papers related to your daily\, weekly\, monthly and future to-dos?<br />\nJoin Smiling Spaces for our upcoming Lunch &#39\;n Learn: <strong>Desktop Paper Management</strong><br />\n<ul>\n	<li>\n		Learn how to set up a tickler file system to better manage papers and to-dos</li>\n	<li>\n		Learn how to keep track of bills and bill paying essentials</li>\n	<li>\n		See examples of favorite organizing products for the desktop and home office</li>\n</ul>\nPlease visit <a href="http://www.learnpapermanagement.eventbrite.com%20/" mce_href="http://www.learnpapermanagement.eventbrite.com " target="_blank" title="blocked::http://www.learnpapermanagement.eventbrite.com /&#13\;&#10\;www.learnpapermanagement.eventbrite.com ">www.learnpapermanagement.eventbrite.com</a>&nbsp\;to register.<br />\n<br />\nLess Piles\, More Smiles!
LOCATION:MNC Conference Room 9380 Central Ave NE Suite 320 Blaine
UID:e.380.146227
SEQUENCE:3
DTSTAMP:20260425T113621Z
URL:http://members.metronorthchamber.org/events/details/free-lunch-learn-desktop-paper-management-09-19-2012-146227
END:VEVENT

END:VCALENDAR
