BEGIN:VCALENDAR
VERSION:2.0
PRODID:-//ChamberMaster//Event Calendar 2.0//EN
METHOD:PUBLISH
X-PUBLISHED-TTL:P3D
REFRESH-INTERVAL:P3D
CALSCALE:GREGORIAN
BEGIN:VEVENT
DTSTART:20131016T160000Z
DTEND:20131016T190000Z
X-MICROSOFT-CDO-ALLDAYEVENT:FALSE
SUMMARY:Free Lunch at Texas Roadhouse Benefitting Anoka - Champlin Meals on Wheels
DESCRIPTION:
X-ALT-DESC;FMTTYPE=text/html:
LOCATION:Texas Roadhouse 2780 Main Street NW Coon Rapids
UID:e.380.149659
SEQUENCE:3
DTSTAMP:20260424T144627Z
URL:http://members.metronorthchamber.org/events/details/free-lunch-at-texas-roadhouse-benefitting-anoka-champlin-meals-on-wheels-10-16-2013-149659
END:VEVENT

END:VCALENDAR
