BEGIN:VCALENDAR
VERSION:2.0
PRODID:-//ChamberMaster//Event Calendar 2.0//EN
METHOD:PUBLISH
X-PUBLISHED-TTL:P3D
REFRESH-INTERVAL:P3D
CALSCALE:GREGORIAN
BEGIN:VEVENT
DTSTART:20120719T170000Z
DTEND:20120719T180000Z
X-MICROSOFT-CDO-ALLDAYEVENT:FALSE
SUMMARY:FREE - Lunch and Learn - vSocial Media
DESCRIPTION:During this lunch and learn we will explore how your business can grow and benefit from Social Media.\n\n  You will learn a few quick tips on how to make more money in less time\, build your business relationships online\n\n  Discuss different platforms and how each fits into your overall strategy\n\n  How to keep top of mind with your customers when they are ready to buy\n\nSpace is limited - call to reserve your spot today\n\nClick to Register - http://conta.cc/PadyUI
X-ALT-DESC;FMTTYPE=text/html:During this lunch and learn we will explore how your business can grow and benefit from Social Media.<br />\n&bull\; You will learn a few quick tips on how to make more money in less time\, build your business relationships online<br />\n&bull\; Discuss different platforms and how each fits into your overall strategy<br />\n&bull\; How to keep top of mind with your customers when they are ready to buy<br />\nSpace is limited - call to reserve your spot today<br />\n<strong>Click to Register</strong> - http://conta.cc/PadyUI
LOCATION:MetroNorth Chamber office
UID:e.380.146169
SEQUENCE:3
DTSTAMP:20260425T161819Z
URL:http://members.metronorthchamber.org/events/details/free-lunch-and-learn-vsocial-media-07-19-2012-146169
END:VEVENT

END:VCALENDAR
