BEGIN:VCALENDAR
VERSION:2.0
PRODID:-//ChamberMaster//Event Calendar 2.0//EN
METHOD:PUBLISH
X-PUBLISHED-TTL:P3D
REFRESH-INTERVAL:P3D
CALSCALE:GREGORIAN
BEGIN:VEVENT
DTSTART:20120802T170000Z
DTEND:20120802T180000Z
X-MICROSOFT-CDO-ALLDAYEVENT:FALSE
SUMMARY:FREE Lunch and Learn - Apps for Your Business
DESCRIPTION:During this lunch and learn we will explore several online Apps to help grow your business - including QR Codes & MS Tags\, Hootsuite. bitly and more!\n\n  You will learn a few quick tips on how each of these can help save you time in your daily business tasks\n\n\n\nSpace is limited - call to reserve your spot today\n\nRegister - http://conta.cc/NNXXcD
X-ALT-DESC;FMTTYPE=text/html:During this lunch and learn we will explore several online Apps to help&nbsp\;grow your business - including QR Codes &amp\; MS Tags\, Hootsuite. bitly and more!<br />\n&bull\; You will learn a few quick tips on how each of these can help save you&nbsp\;time in your daily business tasks<br />\n<br />\nSpace is limited - call to reserve your spot today<br />\n<strong>Register </strong>- http://conta.cc/NNXXcD
LOCATION:MetroNorth Chamber office
UID:e.380.146170
SEQUENCE:3
DTSTAMP:20260425T125427Z
URL:http://members.metronorthchamber.org/events/details/free-lunch-and-learn-apps-for-your-business-08-02-2012-146170
END:VEVENT

END:VCALENDAR
