BEGIN:VCALENDAR
VERSION:2.0
PRODID:-//ChamberMaster//Event Calendar 2.0//EN
METHOD:PUBLISH
X-PUBLISHED-TTL:P3D
REFRESH-INTERVAL:P3D
CALSCALE:GREGORIAN
BEGIN:VEVENT
DTSTART:20141016T160000Z
DTEND:20141016T190000Z
X-MICROSOFT-CDO-ALLDAYEVENT:FALSE
SUMMARY:Free Lunch!
DESCRIPTION:Texas Roadhouse invites you to a free lunch benefiting Impact Services. Free will offering.
X-ALT-DESC;FMTTYPE=text/html:Texas Roadhouse invites you to a free lunch benefiting Impact Services. Free will offering.
LOCATION:2780 Main St Coon Rapids
UID:e.380.151669
SEQUENCE:3
DTSTAMP:20260423T192044Z
URL:http://members.metronorthchamber.org/events/details/free-lunch-10-16-2014-151669
END:VEVENT

END:VCALENDAR
