BEGIN:VCALENDAR
VERSION:2.0
PRODID:-//ChamberMaster//Event Calendar 2.0//EN
METHOD:PUBLISH
X-PUBLISHED-TTL:P3D
REFRESH-INTERVAL:P3D
CALSCALE:GREGORIAN
BEGIN:VEVENT
DTSTART:20140430T224500Z
DTEND:20140430T231500Z
X-MICROSOFT-CDO-ALLDAYEVENT:FALSE
SUMMARY:Free Latin Fitness @ The Nutrition Hub
DESCRIPTION:Free Latin Dance Fitness Workout!  Every Monday and Wednesday - 5:45 pm - 6:15 pm.  Come enjoy a latin style workout - FREE!
X-ALT-DESC;FMTTYPE=text/html:Free Latin Dance Fitness Workout! &nbsp\;Every Monday and Wednesday - 5:45 pm - 6:15 pm. &nbsp\;Come enjoy a latin style workout - FREE!
LOCATION:7880 University Ave\, Fridley
UID:e.380.151278
SEQUENCE:3
DTSTAMP:20260424T044637Z
URL:http://members.metronorthchamber.org/events/details/free-latin-fitness-the-nutrition-hub-04-30-2014-151278
END:VEVENT

END:VCALENDAR
