BEGIN:VCALENDAR
VERSION:2.0
PRODID:-//ChamberMaster//Event Calendar 2.0//EN
METHOD:PUBLISH
X-PUBLISHED-TTL:P3D
REFRESH-INTERVAL:P3D
CALSCALE:GREGORIAN
BEGIN:VEVENT
DTSTART:20191118T233000Z
DTEND:20191119T010000Z
X-MICROSOFT-CDO-ALLDAYEVENT:FALSE
SUMMARY:Free Dinner & Investment Seminar
DESCRIPTION:Join us for a FREE dinner and financial seminar to learn about:\n\n  the three different savings accounts you need\n\n  long-term retirement savings strategies\n\n  tax deferred vs. taxable investments\n\n  the high cost of waiting to save\n\n\n\nTake the first step toward becoming an informed investor.
X-ALT-DESC;FMTTYPE=text/html:<span style="background-color:rgb(255\, 255\, 255)\; color:rgb(29\, 33\, 41)\; font-family:helvetica\,arial\,sans-serif\; font-size:14px">Join us for a FREE dinner and financial seminar to learn about:</span><br />\n<span style="background-color:rgb(255\, 255\, 255)\; color:rgb(29\, 33\, 41)\; font-family:helvetica\,arial\,sans-serif\; font-size:14px">&bull\; the three different savings accounts you need</span><br />\n<span style="background-color:rgb(255\, 255\, 255)\; color:rgb(29\, 33\, 41)\; font-family:helvetica\,arial\,sans-serif\; font-size:14px">&bull\; long-term retirement savings strategies</span><br />\n<span style="background-color:rgb(255\, 255\, 255)\; color:rgb(29\, 33\, 41)\; font-family:helvetica\,arial\,sans-serif\; font-size:14px">&bull\; tax deferred vs. taxable investments</span><br />\n<span style="background-color:rgb(255\, 255\, 255)\; color:rgb(29\, 33\, 41)\; font-family:helvetica\,arial\,sans-serif\; font-size:14px">&bull\; the high cost of waiting to save</span><br />\n<br />\n<span style="background-color:rgb(255\, 255\, 255)\; color:rgb(29\, 33\, 41)\; font-family:helvetica\,arial\,sans-serif\; font-size:14px">Take the first step toward becoming an informed investor.</span>
LOCATION:Cutters Grove 2901 Cutters Grove Ave Anoka\, MN 55303
UID:e.380.191675
SEQUENCE:3
DTSTAMP:20260419T175242Z
URL:http://members.metronorthchamber.org/events/details/free-dinner-investment-seminar-191675
END:VEVENT

END:VCALENDAR
