BEGIN:VCALENDAR
VERSION:2.0
PRODID:-//ChamberMaster//Event Calendar 2.0//EN
METHOD:PUBLISH
X-PUBLISHED-TTL:P3D
REFRESH-INTERVAL:P3D
CALSCALE:GREGORIAN
BEGIN:VEVENT
DTSTART:20170315T223000Z
DTEND:20170315T233000Z
X-MICROSOFT-CDO-ALLDAYEVENT:FALSE
SUMMARY:Free Buffet and Health lecture
DESCRIPTION:Dr. Richter from Blaine Accident and Injury Center will be giving a lecture on:\nThe 3 Science Based Strategies to Relieve Back Pain\, Neck Pain\, Stop Arthritis and Reduce Weight Gain to live an Active\, Long\, and Healthy Life.\n\n\n\nThe 30 minute lecture will be followed by a free buffet.\n\n \n\n\n\n\n\nCall to save a spot limited to 20 per lecture\n\n763-566-8023
X-ALT-DESC;FMTTYPE=text/html:<br />\n<span style="font-size:18px">Dr. Richter from Blaine Accident and Injury Center will be giving a lecture on:</span>\n<div style="text-align:center"><span style="font-size:24px"><strong>The 3 Science Based Strategies to Relieve Back Pain\, Neck Pain\, Stop Arthritis and Reduce Weight Gain to live an Active\, Long\, and Healthy Life.<br />\n<br />\nThe 30 minute lecture will be followed by a free buffet.</strong></span><br />\n&nbsp\;</div>\n\n<div style="margin-left:0.38in"><br />\n<br />\n<span style="font-size:18px">Call to save a spot limited to 20 per lecture<br />\n763-566-8023</span></div>\n
LOCATION:Andover Pizza Ranch
UID:e.380.171783
SEQUENCE:3
DTSTAMP:20260421T184635Z
URL:http://members.metronorthchamber.org/events/details/free-buffet-and-health-lecture-171783
END:VEVENT

END:VCALENDAR
