BEGIN:VCALENDAR
VERSION:2.0
PRODID:-//ChamberMaster//Event Calendar 2.0//EN
METHOD:PUBLISH
X-PUBLISHED-TTL:P3D
REFRESH-INTERVAL:P3D
CALSCALE:GREGORIAN
BEGIN:VEVENT
DTSTART:20190219T180000Z
DTEND:20190220T020000Z
X-MICROSOFT-CDO-ALLDAYEVENT:FALSE
SUMMARY:FREE Addvanced Planning Seminar
DESCRIPTION:Come enjoy a meal with us and learn about the end-of-life planning you need to do now in order to protect your family in the future. Seating will be limited to the FIRST 25 people for each session. Information will be shared on several important subjects with a Question and Answer session to follow. You will learn about advance funeral planning and why it is so necessary for creating a healing and meaningful celebration of life. You will also learn how to avoid mistakes families sometimes make during times of grief. With the knowledge gained\, you can make a decision you will feel good about today and your family will be comforted by in the future. Advance registration is required to assist us in preparations.
X-ALT-DESC;FMTTYPE=text/html:Come enjoy a meal with us and learn about the end-of-life planning you need to do now in order to protect your family in the future. Seating will be limited to the FIRST 25 people for each session. Information will be shared on several important subjects with a Question and Answer session to follow. You will learn about advance funeral planning and why it is so necessary for creating a healing and meaningful celebration of life. You will also learn how to avoid mistakes families sometimes make during times of grief. With the knowledge gained\, you can make a decision you will feel good about today and your family will be comforted by in the future. Advance registration is required to assist us in preparations.
LOCATION:Blaine Prearrangement Center 10450 Baltimore Street NE - Blaine
UID:e.380.187956
SEQUENCE:3
DTSTAMP:20260420T073436Z
URL:http://members.metronorthchamber.org/events/details/free-addvanced-planning-seminar-187956
END:VEVENT

END:VCALENDAR
