BEGIN:VCALENDAR
VERSION:2.0
PRODID:-//ChamberMaster//Event Calendar 2.0//EN
METHOD:PUBLISH
X-PUBLISHED-TTL:P3D
REFRESH-INTERVAL:P3D
CALSCALE:GREGORIAN
BEGIN:VEVENT
DTSTART:20131116T203000Z
DTEND:20131117T030000Z
X-MICROSOFT-CDO-ALLDAYEVENT:FALSE
SUMMARY:Four Seasons Curling Club Olympic Trials Viewing Party
DESCRIPTION:The Four Seasons Curling Club in Blaine\, Minnesota has many members who are playing in the Olympic Trials in Fargo.\n\n\n\nJessica Schultz\, Stephanie Sambor\, Cassie Potter\, Allison Pottinger\, Tabitha Peterson\, Rich Ruohonen\, Colin Hufman\, Courtney George\, and Amanda Mclean all curl out of the club.\n\n\n\nThe teams are approaching the semi-finals\, and the finals will take place this weekend\, Friday November 16 through Sunday Nov. 17.  The event is held in Scheels Arena in Fargo\, North Dakota.\n\n\n\nThe top two teams after a double round-robin will play a best-of-three.  The women's winner will earn a berth to the Olympics\, and the men's winner will play down in Germany\, in an Olympic Challenge Round\, to earn a spot to the Olympics.\n\n\n\nThe best-of-three finals will be aired by NBC Sports Network and Universal Sports this weekend.\n\n\n\nGame one of the finals for both the men and women will be aired at 2:30 PM on Friday\, Nov. 15.  Game 2 for the men will be broadcast Saturday Nov. 16 at 2:30 PM\, and at 7:00 PM for the women.  Should the playoffs go to game three\, they will be aired Sunday\, Nov. 17 at 11:00 AM and 2:00 PM for the men and women respectively.\n\n\n\nThe Four Seasons Curling Club is hosting an Olympic Trials Viewing Party for the Saturday\, Nov. 16 games.  Open to the public and free of charge\, fans can congregate and watch the finals at 2:30 PM and 7:00 PM in the Curler's Lounge within the attached restaurant\, Gabe's Rinkside Bar and Grill.
X-ALT-DESC;FMTTYPE=text/html:The Four Seasons Curling Club in Blaine\, Minnesota has many members who are playing in the Olympic Trials in Fargo.<br />\n<br />\nJessica Schultz\, Stephanie Sambor\, Cassie Potter\, Allison Pottinger\, Tabitha Peterson\, Rich Ruohonen\, Colin Hufman\, Courtney George\, and Amanda Mclean all curl out of the club.<br />\n<br />\nThe teams are approaching the semi-finals\, and the finals will take place this weekend\, Friday November 16 through Sunday Nov. 17.&nbsp\; The event is held in Scheels Arena in Fargo\, North Dakota.<br />\n<br />\nThe top two teams after a double round-robin will play a best-of-three.&nbsp\; The women&rsquo\;s winner will earn a berth to the Olympics\, and the men&rsquo\;s winner will play down in Germany\, in an Olympic Challenge Round\, to earn a spot to the Olympics.<br />\n<br />\nThe best-of-three finals will be aired by NBC Sports Network and Universal Sports this weekend.<br />\n<br />\nGame one of the finals for both the men and women will be aired at 2:30 PM on Friday\, Nov. 15.&nbsp\; Game 2 for the men will be broadcast Saturday Nov. 16 at 2:30 PM\, and at 7:00 PM for the women.&nbsp\; Should the playoffs go to game three\, they will be aired Sunday\, Nov. 17 at 11:00 AM and 2:00 PM for the men and women respectively.<br />\n<br />\nThe Four Seasons Curling Club is hosting an Olympic Trials Viewing Party for the Saturday\, Nov. 16 games.&nbsp\; Open to the public and free of charge\, fans can congregate and watch the finals at 2:30 PM and 7:00 PM in the Curler&rsquo\;s Lounge within the attached restaurant\, Gabe&rsquo\;s Rinkside Bar and Grill.&nbsp\;&nbsp\; &nbsp\;<br />\n
LOCATION:Four Seasons Curling Club Curler's Lounge within Gabe's Rinkside Bar and Grill 9250 Lincoln St. NE\, Blaine
UID:e.380.149895
SEQUENCE:3
DTSTAMP:20260424T125212Z
URL:http://members.metronorthchamber.org/events/details/four-seasons-curling-club-olympic-trials-viewing-party-11-16-2013-149895
END:VEVENT

END:VCALENDAR
