BEGIN:VCALENDAR
VERSION:2.0
PRODID:-//ChamberMaster//Event Calendar 2.0//EN
METHOD:PUBLISH
X-PUBLISHED-TTL:P3D
REFRESH-INTERVAL:P3D
CALSCALE:GREGORIAN
BEGIN:VEVENT
DTSTART:20130319T170000Z
DTEND:20130319T180000Z
X-MICROSOFT-CDO-ALLDAYEVENT:FALSE
SUMMARY:Foundations of Social Media Training - Facebook
DESCRIPTION:In our ongoing effort to provide education and professional development to members\, we are pleased to announce a new initiative for 2013: "Foundations of Social Media Training". Rotating sessions on Twitter\, Facebook\, and LinkedIn will cover the basics of each platform\, teaching new users how to most effectively use it to grow their business. Aspects such as how to create an account\, terminology\, etiquette\, effectiveness\, etc. will be covered. There's no cost to current MetroNorth members   this is just another great value of membership! Session dates are Feb 19 (LinkedIn)\, March 19 (Facebook) and April 16 (Twitter) from 12-1 pm at the MN School of Business - Blaine. Lunch will be provided courtesy MN School of Business.  Training delivered by Mary "Bumblebee" Pokluda of Bumblebee Personal Assistants.
X-ALT-DESC;FMTTYPE=text/html:<div style="color: gray">\n	<span style="color:#000080\;"><span style="font-size: 11px\;"><span style="font-family: tahoma\;">In our ongoing effort to provide education and professional development to members\, we are pleased to announce a new initiative for 2013: &ldquo\;Foundations of Social Media Training&rdquo\;. Rotating sessions on Twitter\, Facebook\, and LinkedIn will cover the basics of each platform\, teaching new users how to most effectively use it to grow their business. Aspects such as how to create an account\, terminology\, etiquette\, effectiveness\, etc. will be covered. There&rsquo\;s no cost to current MetroNorth members &ndash\; this is just another great value of membership! Session dates are Feb 19 (LinkedIn)\, March 19 (Facebook) and April 16 (Twitter) from 12-1 pm at the MN School of Business - Blaine. </span></span></span><span style="font-family:tahoma\;"><span style="font-size: 11px\;"><span style="color: rgb(0\, 0\, 128)\;">L<span><span><span>unch will be provided courtesy MN School of Business</span></span></span>.&nbsp\;&nbsp\;Training delivered by Mary &quot\;Bumblebee&quot\; <span>Pokluda</span> of Bumblebee Personal Assistants.</span></span></span></div>\n
LOCATION:Minnesota School of Business 3680 Pheasant Ridge Dr. Blaine\, MN 55449
UID:e.380.148154
SEQUENCE:3
DTSTAMP:20260425T020239Z
URL:http://members.metronorthchamber.org/events/details/foundations-of-social-media-training-facebook-03-19-2013-148154
END:VEVENT

END:VCALENDAR
