BEGIN:VCALENDAR
VERSION:2.0
PRODID:-//ChamberMaster//Event Calendar 2.0//EN
METHOD:PUBLISH
X-PUBLISHED-TTL:P3D
REFRESH-INTERVAL:P3D
CALSCALE:GREGORIAN
BEGIN:VEVENT
DTSTART:20170501T123000Z
DTEND:20170501T140000Z
X-MICROSOFT-CDO-ALLDAYEVENT:FALSE
SUMMARY:Forum on Transit in the North Metro
DESCRIPTION:Join the MetroNorth and Minneapolis Regional Chambers of Commerce for an informational session about current transit options in our area. Provide input on how these options could be improved to serve you\, your business\, your customers\, and your employees.
X-ALT-DESC;FMTTYPE=text/html:Join the MetroNorth and Minneapolis Regional Chambers of Commerce for an informational session about current transit options in our area. Provide input on how these options could be improved to serve you\, your business\, your customers\, and your employees.
LOCATION:
UID:e.380.173216
SEQUENCE:3
DTSTAMP:20260421T152723Z
URL:http://members.metronorthchamber.org/events/details/forum-on-transit-in-the-north-metro-173216
END:VEVENT

END:VCALENDAR
