BEGIN:VCALENDAR
VERSION:2.0
PRODID:-//ChamberMaster//Event Calendar 2.0//EN
METHOD:PUBLISH
X-PUBLISHED-TTL:P3D
REFRESH-INTERVAL:P3D
CALSCALE:GREGORIAN
BEGIN:VEVENT
DTSTART:20151001T211500Z
DTEND:20151001T214500Z
X-MICROSOFT-CDO-ALLDAYEVENT:FALSE
SUMMARY:For Pet's Sake - Ribbon Cutting
DESCRIPTION:Help us celebrate the new membership of For Pet's Sake! They are celebrating their new membership with the MetroNorth Chamber.
X-ALT-DESC;FMTTYPE=text/html:Help us celebrate the new membership of For Pet&#39\;s Sake! They are celebrating their new membership with the MetroNorth Chamber.
LOCATION:For Pet's Sake 11724 Ulysses Street NE Blaine\, MN 55434
UID:e.380.159599
SEQUENCE:3
DTSTAMP:20260422T234523Z
URL:http://members.metronorthchamber.org/events/details/for-pet-s-sake-ribbon-cutting-10-01-2015-159599
END:VEVENT

END:VCALENDAR
