BEGIN:VCALENDAR
VERSION:2.0
PRODID:-//ChamberMaster//Event Calendar 2.0//EN
METHOD:PUBLISH
X-PUBLISHED-TTL:P3D
REFRESH-INTERVAL:P3D
CALSCALE:GREGORIAN
BEGIN:VEVENT
DTSTART:20190914T143000Z
DTEND:20190914T180000Z
X-MICROSOFT-CDO-ALLDAYEVENT:FALSE
SUMMARY:FootGolf benefiting Cael's Angels
DESCRIPTION:Join us Saturday September\, 14\, 2019 for an 18 hole Footgolf Scramble.\n\n\n\nAwards Categories: Best team score\, Best Dressed\, & more!
X-ALT-DESC;FMTTYPE=text/html:Join us Saturday September\, 14\, 2019 for an 18 hole Footgolf Scramble.<br />\n<br />\nAwards Categories: Best team score\, Best Dressed\, &amp\; more!
LOCATION:Majestic Oaks Golf Club 701 Bunker Lake Blvd NE Ham Lake\, MN 55304
UID:e.380.191007
SEQUENCE:3
DTSTAMP:20260419T193239Z
URL:http://members.metronorthchamber.org/events/details/footgolf-benefiting-cael-s-angels-191007
END:VEVENT

END:VCALENDAR
