BEGIN:VCALENDAR
VERSION:2.0
PRODID:-//ChamberMaster//Event Calendar 2.0//EN
METHOD:PUBLISH
X-PUBLISHED-TTL:P3D
REFRESH-INTERVAL:P3D
CALSCALE:GREGORIAN
BEGIN:VEVENT
DTSTART:20181006T143000Z
DTEND:20181006T173000Z
X-MICROSOFT-CDO-ALLDAYEVENT:FALSE
SUMMARY:Foot Golf Supporting Cael's Angels
DESCRIPTION:Cael's Angel's Association Presents\n\nA Footgolf Event \n\nHonoring Stillbirth Awareness and Support\n\nJoin us Saturday October 6th\, 2018\n\nFor an 18 hole Footgolf Scramble\n\nProceeds going to Cael's Angels Association to help purchase a cuddle cot to be donated to a local hospital.\n\nLunch will be served at 12pm with awards and silent auction \n\nRegister online at caelsangels.org/events \n\nAwards Categories: Best team score\, Best dressed\, Furthest drive both youth and Adult\, and more.
X-ALT-DESC;FMTTYPE=text/html:<span style="color: rgb(29\, 33\, 41)\; font-family: Helvetica\, Arial\, sans-serif\; font-size: 14px\; background-color: rgb(255\, 255\, 255)\;">Cael&rsquo\;s Angel&rsquo\;s Association Presents</span><br style="color: rgb(29\, 33\, 41)\; font-family: Helvetica\, Arial\, sans-serif\; font-size: 14px\; background-color: rgb(255\, 255\, 255)\;" />\n<span style="color: rgb(29\, 33\, 41)\; font-family: Helvetica\, Arial\, sans-serif\; font-size: 14px\; background-color: rgb(255\, 255\, 255)\;">A Footgolf Event&nbsp\;</span><br style="color: rgb(29\, 33\, 41)\; font-family: Helvetica\, Arial\, sans-serif\; font-size: 14px\; background-color: rgb(255\, 255\, 255)\;" />\n<span style="color: rgb(29\, 33\, 41)\; font-family: Helvetica\, Arial\, sans-serif\; font-size: 14px\; background-color: rgb(255\, 255\, 255)\;">Honoring Stillbirth Awareness and Support</span><br style="color: rgb(29\, 33\, 41)\; font-family: Helvetica\, Arial\, sans-serif\; font-size: 14px\; background-color: rgb(255\, 255\, 255)\;" />\n<span style="color: rgb(29\, 33\, 41)\; font-family: Helvetica\, Arial\, sans-serif\; font-size: 14px\; background-color: rgb(255\, 255\, 255)\;">Join us Saturday October 6th\, 2018</span><br style="color: rgb(29\, 33\, 41)\; font-family: Helvetica\, Arial\, sans-serif\; font-size: 14px\; background-color: rgb(255\, 255\, 255)\;" />\n<span style="color: rgb(29\, 33\, 41)\; font-family: Helvetica\, Arial\, sans-serif\; font-size: 14px\; background-color: rgb(255\, 255\, 255)\;">For an 18 hole Footgolf Scramble</span><br style="color: rgb(29\, 33\, 41)\; font-family: Helvetica\, Arial\, sans-serif\; font-size: 14px\; background-color: rgb(255\, 255\, 255)\;" />\n<span style="color: rgb(29\, 33\, 41)\; font-family: Helvetica\, Arial\, sans-serif\; font-size: 14px\; background-color: rgb(255\, 255\, 255)\;">Proceeds going to Cael&rsquo\;s Angels Association to help purchase a cuddle cot to be donated to a local hospital.</span><br style="color: rgb(29\, 33\, 41)\; font-family: Helvetica\, Arial\, sans-serif\; font-size: 14px\; background-color: rgb(255\, 255\, 255)\;" />\n<span style="color: rgb(29\, 33\, 41)\; font-family: Helvetica\, Arial\, sans-serif\; font-size: 14px\; background-color: rgb(255\, 255\, 255)\;">Lunch will be served at 12pm with awards and silent auction&nbsp\;</span><br style="color: rgb(29\, 33\, 41)\; font-family: Helvetica\, Arial\, sans-serif\; font-size: 14px\; background-color: rgb(255\, 255\, 255)\;" />\n<span style="color: rgb(29\, 33\, 41)\; font-family: Helvetica\, Arial\, sans-serif\; font-size: 14px\; background-color: rgb(255\, 255\, 255)\;">Register online at&nbsp\;</span><a data-lynx-mode="hover" href="https://l.facebook.com/l.php?u=http%3A%2F%2Fcaelsangels.org%2Fevents&amp\;h=AT2OiMCyZBOd6iW_ipCvXJOEo-9e7K1p4imlkyx29FvrlzLolm5vSNYk2xESRdYfMoym3Ih4svTH-uIFFLmZdpzPd7-ITOJnWjbEXvL8qxXQ2Vd4z7i3Uo1ZcPAreM1-7g" rel="nofollow noopener" style="color: rgb(54\, 88\, 153)\; cursor: pointer\; text-decoration-line: none\; font-family: Helvetica\, Arial\, sans-serif\; font-size: 14px\; background-color: rgb(255\, 255\, 255)\;" target="_blank">caelsangels.org/events</a><span style="color: rgb(29\, 33\, 41)\; font-family: Helvetica\, Arial\, sans-serif\; font-size: 14px\; background-color: rgb(255\, 255\, 255)\;">&nbsp\;</span><br style="color: rgb(29\, 33\, 41)\; font-family: Helvetica\, Arial\, sans-serif\; font-size: 14px\; background-color: rgb(255\, 255\, 255)\;" />\n<span style="color: rgb(29\, 33\, 41)\; font-family: Helvetica\, Arial\, sans-serif\; font-size: 14px\; background-color: rgb(255\, 255\, 255)\;">Awards Categories: Best team score\, Best dressed\, Furthest drive both youth and Adult\, and more.</span>
LOCATION:Majestic Oaks Golf Club 701 Bunker Lake Blvd NE Ham Lake\, MN 55304
UID:e.380.187132
SEQUENCE:3
DTSTAMP:20260420T152205Z
URL:http://members.metronorthchamber.org/events/details/foot-golf-supporting-cael-s-angels-187132
END:VEVENT

END:VCALENDAR
