BEGIN:VCALENDAR
VERSION:2.0
PRODID:-//ChamberMaster//Event Calendar 2.0//EN
METHOD:PUBLISH
X-PUBLISHED-TTL:P3D
REFRESH-INTERVAL:P3D
CALSCALE:GREGORIAN
BEGIN:VEVENT
DTSTART:20170427T000000Z
DTEND:20170427T010000Z
X-MICROSOFT-CDO-ALLDAYEVENT:FALSE
SUMMARY:Foam Roller Class
DESCRIPTION:Join us for an interactive and educational foam rolling class. You will learn how to use this valuable rehab tool. Let us teach you how using a foam roller can be an integral part of a healthy and active lifestyle!!
X-ALT-DESC;FMTTYPE=text/html:Join us for an interactive and educational foam rolling class. You will learn how to use this valuable rehab tool. Let us teach you how using a foam roller can be an integral part of a healthy and active lifestyle!!
LOCATION:SNAP Fitness in Andover 1574 154th Ave NW #104 Andover\, MN 55304
UID:e.380.173186
SEQUENCE:3
DTSTAMP:20260421T165953Z
URL:http://members.metronorthchamber.org/events/details/foam-roller-class-173186
END:VEVENT

END:VCALENDAR
