BEGIN:VCALENDAR
VERSION:2.0
PRODID:-//ChamberMaster//Event Calendar 2.0//EN
METHOD:PUBLISH
X-PUBLISHED-TTL:P3D
REFRESH-INTERVAL:P3D
CALSCALE:GREGORIAN
BEGIN:VEVENT
DTSTART:20190608T150000Z
DTEND:20190610T230000Z
X-MICROSOFT-CDO-ALLDAYEVENT:FALSE
SUMMARY:FN Bargains $5-$3-$1 Tent Sale
DESCRIPTION:Our warehouse is overflowing with merchandise that we need to clear out to make room for new inventory. Everything in the Tent will be $5 on Saturday\, $3 on Sunday and only $1 on Monday (per item). Kids & Adult Summer Apparel (swimsuits\, shorts\, shirts\, dresses\, sandals\, etc.)\, Pool Floaties\, Bedding\, Curtains & Hardware\, Cell Phone Cases\, Video Games\, School Uniforms\, General Merchandise & more! Stock up for summer and SAVE $$$!!! + Taco J's Food Truck will be serving up delicious food for purchase. See you there! ??
X-ALT-DESC;FMTTYPE=text/html:<span style="color:rgb(29\, 33\, 41)\; font-family:helvetica neue\,helvetica\,arial\,sans-serif\; font-size:14px">Our warehouse is overflowing with merchandise that we need to clear out to make room for new inventory. Everything in the Tent will be $5 on Saturday\, $3 on Sunday and only $1 on Monday (per item). Kids &amp\; Adult Summer Apparel (swimsuits\, shorts\, shirts\, dresses\, sandals\, etc.)\, Pool Floaties\, Bedding\, Curtains &amp\; Hardware\, Cell Phone Cases\, Video Games\, School Uniforms\, General Merchandise &amp\; more! Stock up for summer and SAVE $$$!!! + Taco J&rsquo\;s Food Truck will be serving up delicious food for purchase. See you there! ??</span>
LOCATION:FN Bargains Discount Store (& Penske Truck Rental) 16525 Hwy 65 NE Ham Lake\, MN 55304
UID:e.380.189487
SEQUENCE:3
DTSTAMP:20260420T003728Z
URL:http://members.metronorthchamber.org/events/details/fn-bargains-5-3-1-tent-sale-189487
END:VEVENT

END:VCALENDAR
