BEGIN:VCALENDAR
VERSION:2.0
PRODID:-//ChamberMaster//Event Calendar 2.0//EN
METHOD:PUBLISH
X-PUBLISHED-TTL:P3D
REFRESH-INTERVAL:P3D
CALSCALE:GREGORIAN
BEGIN:VEVENT
DTSTART:20200126T000000Z
DTEND:20200126T013000Z
X-MICROSOFT-CDO-ALLDAYEVENT:FALSE
SUMMARY:Flipping Skill Clinic
DESCRIPTION:Our coaches love to help children learn new gymnastics skills!  Come learn the steps to do flips!  This clinic will focus on front and back tucks (flips).  Our coaches will work with each child to ensure that they are challenged and have fun. \n\n\n\nWhat skills will the participants work on? Students will work on progressions to work on a front and back tuck. The progressions will range from basic skills of forward and backward rolls to the more advance skill of front and back tucks.  Our coaches are trained to modify stations to challenge everyone and help them have fun!\n\n\n\nWill the participants be split into groups? Yes\, the participants will be split into groups based on their abilities.  In the event that there are only a few participants\, they may stay as 1 or 2 groups.
X-ALT-DESC;FMTTYPE=text/html:Our coaches love to help children learn new gymnastics skills!&nbsp\; Come learn the steps to do flips!&nbsp\; This clinic will focus on front and back tucks (flips).&nbsp\; Our coaches will work with each child to ensure that they are challenged and have fun.&nbsp\;<br />\n<br />\nWhat skills will the participants work on? Students will work on progressions to work on a front and back tuck. The progressions will range from basic skills of forward and backward rolls to the more advance skill of front and back tucks.&nbsp\; Our coaches are trained to modify stations to challenge everyone and help them have fun!<br />\n<br />\nWill the participants be split into groups? Yes\, the participants will be split into groups based on their abilities.&nbsp\; In the event that there are only a few participants\, they may stay as 1 or 2 groups.
LOCATION:1460 133rd Lane NE\, Ham Lake
UID:e.380.191872
SEQUENCE:3
DTSTAMP:20260419T125009Z
URL:http://members.metronorthchamber.org/events/details/flipping-skill-clinic-01-25-2020-191872
END:VEVENT

END:VCALENDAR
