BEGIN:VCALENDAR
VERSION:2.0
PRODID:-//ChamberMaster//Event Calendar 2.0//EN
METHOD:PUBLISH
X-PUBLISHED-TTL:P3D
REFRESH-INTERVAL:P3D
CALSCALE:GREGORIAN
BEGIN:VEVENT
DTSTART:20170929T140000Z
DTEND:20170929T230000Z
X-MICROSOFT-CDO-ALLDAYEVENT:FALSE
SUMMARY:Flight Line Ltd. Flea Market
DESCRIPTION:Flight Line Gifts will be hosting a public "Flea Market"\n\nThis outdoor event will be held in the back parking area of "Nate's Plaza" behind our new store. This event is open to the public\, all are welcome to come! We hope to have a number of different vendors for all to choose from.\n\n\n\nBecome a vendor at our show...\n\nVendor fees are $25 for each 15' X 15' outside space per day. Vendors provide their own tables/tent\; the set-up is on asphalt no staking available. Please register your booth in person at our store or online through our website.\n\nThere is limited space for outside vendor spots on this site. If you are interested in participating at this event\, please "Register" today through our website. You can also email or call for registration information! This is a "First-Come-First-Serve" basis.
X-ALT-DESC;FMTTYPE=text/html:Flight Line Gifts will be hosting a public &quot\;Flea Market&quot\;<br />\nThis outdoor event will be held in the back parking area of &quot\;Nate&#39\;s Plaza&quot\; behind our new store. This event is open to the public\, all are welcome to come! We hope to have a number of different vendors for all to choose from.<br />\n<br />\nBecome a vendor at our show...<br />\nVendor fees are $25 for each 15&#39\; X 15&#39\; outside space per day. Vendors provide their own tables/tent\; the set-up is on asphalt no staking available. Please register your booth in person at our store or online through our website.<br />\nThere is limited space for outside vendor spots on this site. If you are interested in participating at this event\, please &quot\;Register&quot\; today through our website. You can also email or call for registration information! This is a &quot\;First-Come-First-Serve&quot\; basis.
LOCATION:1033 109th Ave. NE\, Blaine\, MN 55434 This event will be staged behind "Nate's Plaza" in the back parking area (map pictured on flyer)
UID:e.380.176733
SEQUENCE:3
DTSTAMP:20260421T105746Z
URL:http://members.metronorthchamber.org/events/details/flight-line-ltd-flea-market-176733
END:VEVENT

END:VCALENDAR
